BEGIN:VCALENDAR
VERSION:2.0
PRODID:icalendar-ruby
CALSCALE:GREGORIAN
METHOD:PUBLISH
BEGIN:VEVENT
DTSTAMP:20260420T230438Z
UID:453f04fa-8ffc-4d3d-86dc-68bc9d26d131
DTSTART;VALUE=DATE:20170511
DTEND;VALUE=DATE:20170511
DESCRIPTION:Lexington BMX
LOCATION:1159 Nazareth Road  Lexington SC 29073 USA
SUMMARY:Practice
URL:/site/bmx_races/348420
END:VEVENT
END:VCALENDAR
