BEGIN:VCALENDAR
VERSION:2.0
PRODID:icalendar-ruby
CALSCALE:GREGORIAN
METHOD:PUBLISH
BEGIN:VEVENT
DTSTAMP:20260420T211756Z
UID:3224e8f3-659d-41a9-920f-a7129054fab1
DTSTART;VALUE=DATE:20170629
DTEND;VALUE=DATE:20170629
DESCRIPTION:Lexington BMX
LOCATION:1159 Nazareth Road  Lexington SC 29073 USA
SUMMARY:Practice
URL:/site/bmx_races/348434
END:VEVENT
END:VCALENDAR
