BEGIN:VCALENDAR
VERSION:2.0
PRODID:icalendar-ruby
CALSCALE:GREGORIAN
METHOD:PUBLISH
BEGIN:VEVENT
DTSTAMP:20260420T143730Z
UID:bc3ab60a-8443-4b59-b815-b4955fc123ce
DTSTART;VALUE=DATE:20171003
DTEND;VALUE=DATE:20171003
DESCRIPTION:Lexington BMX
LOCATION:1159 Nazareth Road  Lexington SC 29073 USA
SUMMARY:Practice
URL:/site/bmx_races/348461
END:VEVENT
END:VCALENDAR
