BEGIN:VCALENDAR
VERSION:2.0
PRODID:icalendar-ruby
CALSCALE:GREGORIAN
METHOD:PUBLISH
BEGIN:VEVENT
DTSTAMP:20260420T112801Z
UID:470e966d-c053-4bbd-abf9-9878b499f52d
DTSTART;VALUE=DATE:20171207
DTEND;VALUE=DATE:20171207
DESCRIPTION:Lexington BMX
LOCATION:1159 Nazareth Road  Lexington SC 29073 USA
SUMMARY:Practice
URL:/site/bmx_races/348480
END:VEVENT
END:VCALENDAR
