BEGIN:VCALENDAR
VERSION:2.0
PRODID:icalendar-ruby
CALSCALE:GREGORIAN
METHOD:PUBLISH
BEGIN:VEVENT
DTSTAMP:20260420T113023Z
UID:8f510c2d-8891-4c63-9fb2-c83fb17aa40b
DTSTART;VALUE=DATE:20171221
DTEND;VALUE=DATE:20171221
DESCRIPTION:Lexington BMX
LOCATION:1159 Nazareth Road  Lexington SC 29073 USA
SUMMARY:Practice
URL:/site/bmx_races/348484
END:VEVENT
END:VCALENDAR
