BEGIN:VCALENDAR
VERSION:2.0
PRODID:icalendar-ruby
CALSCALE:GREGORIAN
METHOD:PUBLISH
BEGIN:VEVENT
DTSTAMP:20260420T094914Z
UID:459245d0-be34-4fa3-9d1b-1da697bf86b6
DTSTART;VALUE=DATE:20171111
DTEND;VALUE=DATE:20171111
DESCRIPTION:Naples BMX
LOCATION:4701 Golden Gate Parkway  Naples FL 34116 USA
SUMMARY:Local Race Single
URL:/site/bmx_races/349156
END:VEVENT
END:VCALENDAR
