BEGIN:VCALENDAR
VERSION:2.0
PRODID:icalendar-ruby
CALSCALE:GREGORIAN
METHOD:PUBLISH
BEGIN:VEVENT
DTSTAMP:20260423T222204Z
UID:807ddd17-c127-468c-acb7-7db0dd2f0bd7
DTSTART;VALUE=DATE:20171104
DTEND;VALUE=DATE:20171104
DESCRIPTION:Rum River BMX
LOCATION:Isanti Parkway Northwest  Isanti MN 55040 USA
SUMMARY:Standard Single Single
URL:/site/bmx_races/349359
END:VEVENT
END:VCALENDAR
