BEGIN:VCALENDAR
VERSION:2.0
PRODID:icalendar-ruby
CALSCALE:GREGORIAN
METHOD:PUBLISH
BEGIN:VEVENT
DTSTAMP:20260424T032351Z
UID:908f7b0c-d941-4ccc-b6ff-ff035182dc49
DTSTART;VALUE=DATE:20171111
DTEND;VALUE=DATE:20171111
DESCRIPTION:Rum River BMX
LOCATION:Isanti Parkway Northwest  Isanti MN 55040 USA
SUMMARY:Standard Single Single
URL:/site/bmx_races/349360
END:VEVENT
END:VCALENDAR
