BEGIN:VCALENDAR
VERSION:2.0
PRODID:icalendar-ruby
CALSCALE:GREGORIAN
METHOD:PUBLISH
BEGIN:VEVENT
DTSTAMP:20260421T133525Z
UID:070ebeaf-878b-4793-a6a7-25cf2a492f9d
DTSTART;VALUE=DATE:20170620
DTEND;VALUE=DATE:20170620
DESCRIPTION:Elkhorn BMX
LOCATION:848 Elkhorn Blvd  Rio Linda CA 95673 USA
SUMMARY:Olympic Day Single
URL:/site/bmx_races/349802
END:VEVENT
END:VCALENDAR
