BEGIN:VCALENDAR
VERSION:2.0
PRODID:icalendar-ruby
CALSCALE:GREGORIAN
METHOD:PUBLISH
BEGIN:VEVENT
DTSTAMP:20260419T154423Z
UID:6c6893b7-d6a2-46d2-9be5-72fab42cede1
DTSTART;VALUE=DATE:20170813
DTEND;VALUE=DATE:20170813
DESCRIPTION:South Towns BMX
LOCATION:2982 Lakeview Rd  Hamburg NY 14075 USA
SUMMARY:Standard Double Double
URL:/site/bmx_races/350031
END:VEVENT
END:VCALENDAR
