BEGIN:VCALENDAR
VERSION:2.0
PRODID:icalendar-ruby
CALSCALE:GREGORIAN
METHOD:PUBLISH
BEGIN:VEVENT
DTSTAMP:20260424T114052Z
UID:3aaca662-4ac6-4bd5-a386-d45e73d0ee40
DTSTART;VALUE=DATE:20170427
DTEND;VALUE=DATE:20170427
DESCRIPTION:80/35 BMX
LOCATION:1701 E Mc Kinley Ave  Des Moines IA 50320 USA
SUMMARY:Practice
URL:/site/bmx_races/350265
END:VEVENT
END:VCALENDAR
