BEGIN:VCALENDAR
VERSION:2.0
PRODID:icalendar-ruby
CALSCALE:GREGORIAN
METHOD:PUBLISH
BEGIN:VEVENT
DTSTAMP:20260423T070306Z
UID:73a08d9a-a132-4e40-8a40-9a00047350cd
DTSTART;VALUE=DATE:20170506
DTEND;VALUE=DATE:20170506
DESCRIPTION:Peninsula Indoor BMX
LOCATION:5867 Dogwood Road Se  Port Orchard WA 98367 USA
SUMMARY:Standard Single Single
URL:/site/bmx_races/350386
END:VEVENT
END:VCALENDAR
