BEGIN:VCALENDAR
VERSION:2.0
PRODID:icalendar-ruby
CALSCALE:GREGORIAN
METHOD:PUBLISH
BEGIN:VEVENT
DTSTAMP:20260425T114404Z
UID:024aa389-a46a-4bc2-8eb3-16ce0408c868
DTSTART;VALUE=DATE:20170824
DTEND;VALUE=DATE:20170824
DESCRIPTION:Circle City BMX
LOCATION:Westgate Park    100 Recreation Rd Dothan AL 36305 USA
SUMMARY:Practice
URL:/site/bmx_races/350765
END:VEVENT
END:VCALENDAR
