BEGIN:VCALENDAR
VERSION:2.0
PRODID:icalendar-ruby
CALSCALE:GREGORIAN
METHOD:PUBLISH
BEGIN:VEVENT
DTSTAMP:20260425T140107Z
UID:37c18acb-2379-4e9f-b407-007f118679fc
DTSTART;VALUE=DATE:20171012
DTEND;VALUE=DATE:20171012
DESCRIPTION:Westmoreland BMX
LOCATION:200 Park Road  Apollo PA 15613 USA
SUMMARY:Practice
URL:/site/bmx_races/351095
END:VEVENT
END:VCALENDAR
