BEGIN:VCALENDAR
VERSION:2.0
PRODID:icalendar-ruby
CALSCALE:GREGORIAN
METHOD:PUBLISH
BEGIN:VEVENT
DTSTAMP:20260420T225531Z
UID:0d5c9f01-d375-44c9-aff7-cd5fc2923db4
DTSTART;VALUE=DATE:20170728
DTEND;VALUE=DATE:20170728
DESCRIPTION:Rock City BMX
LOCATION:3300 10 Mile Road  Rockford MI 49341 USA
SUMMARY:Standard Single Single
URL:/site/bmx_races/351606
END:VEVENT
END:VCALENDAR
