BEGIN:VCALENDAR
VERSION:2.0
PRODID:icalendar-ruby
CALSCALE:GREGORIAN
METHOD:PUBLISH
BEGIN:VEVENT
DTSTAMP:20260424T044301Z
UID:c5b6c54d-8840-4d53-b1ec-5f4810e31742
DTSTART;VALUE=DATE:20170715
DTEND;VALUE=DATE:20170715
DESCRIPTION:Montrose West BMX
LOCATION:411 W Second  Naturita CO 81422 USA
SUMMARY:Race For Life Double Double
URL:/site/bmx_races/351708
END:VEVENT
END:VCALENDAR
