BEGIN:VCALENDAR
VERSION:2.0
PRODID:icalendar-ruby
CALSCALE:GREGORIAN
METHOD:PUBLISH
BEGIN:VEVENT
DTSTAMP:20260424T082613Z
UID:9dc80cb6-b570-462d-ba2f-99b144431f6c
DTSTART;VALUE=DATE:20170603
DTEND;VALUE=DATE:20170603
DESCRIPTION:80/35 BMX
LOCATION:1701 E Mc Kinley Ave  Des Moines IA 50320 USA
SUMMARY:Standard Single Single
URL:/site/bmx_races/352103
END:VEVENT
END:VCALENDAR
