BEGIN:VCALENDAR
VERSION:2.0
PRODID:icalendar-ruby
CALSCALE:GREGORIAN
METHOD:PUBLISH
BEGIN:VEVENT
DTSTAMP:20260423T130028Z
UID:876e16ef-fdda-4ac4-b4d5-ca61c605cff4
DTSTART;VALUE=DATE:20170601
DTEND;VALUE=DATE:20170601
DESCRIPTION:I-94 BMX
LOCATION:Delagoon Park 1941 Delagoon Park Dr Fergus Falls MN 56537 USA
SUMMARY:Standard Single Single
URL:/site/bmx_races/352713
END:VEVENT
END:VCALENDAR
