BEGIN:VCALENDAR
VERSION:2.0
PRODID:icalendar-ruby
CALSCALE:GREGORIAN
METHOD:PUBLISH
BEGIN:VEVENT
DTSTAMP:20260423T053230Z
UID:a43fa018-6c25-4234-a7d7-5f6a91626968
DTSTART;VALUE=DATE:20170620
DTEND;VALUE=DATE:20170620
DESCRIPTION:Peninsula Indoor BMX
LOCATION:5867 Dogwood Road Se  Port Orchard WA 98367 USA
SUMMARY:Clinic
URL:/site/bmx_races/352759
END:VEVENT
END:VCALENDAR
