BEGIN:VCALENDAR
VERSION:2.0
PRODID:icalendar-ruby
CALSCALE:GREGORIAN
METHOD:PUBLISH
BEGIN:VEVENT
DTSTAMP:20260424T132804Z
UID:9d2c240d-2787-4734-8c90-0d22b180f916
DTSTART;VALUE=DATE:20170707
DTEND;VALUE=DATE:20170707
DESCRIPTION:Blanchard Woods BMX
LOCATION:4600 Blanchard Woods Drive  Evans GA 30809 USA
SUMMARY:Standard Single Single
URL:/site/bmx_races/353012
END:VEVENT
END:VCALENDAR
