BEGIN:VCALENDAR
VERSION:2.0
PRODID:icalendar-ruby
CALSCALE:GREGORIAN
METHOD:PUBLISH
BEGIN:VEVENT
DTSTAMP:20260421T133601Z
UID:fbb5cf5e-b2a9-4b3b-be9f-26203fb2f5f9
DTSTART;VALUE=DATE:20170612
DTEND;VALUE=DATE:20170612
DESCRIPTION:Daytona BMX
LOCATION:1670 Strickland Range Rd  Holly Hill FL 32117 USA
SUMMARY:Practice
URL:/site/bmx_races/353165
END:VEVENT
END:VCALENDAR
