BEGIN:VCALENDAR
VERSION:2.0
PRODID:icalendar-ruby
CALSCALE:GREGORIAN
METHOD:PUBLISH
BEGIN:VEVENT
DTSTAMP:20260421T035004Z
UID:a39c1064-c6cc-48c8-88b5-08bce79138dc
DTSTART;VALUE=DATE:20171204
DTEND;VALUE=DATE:20171204
DESCRIPTION:Daytona BMX
LOCATION:1670 Strickland Range Rd  Holly Hill FL 32117 USA
SUMMARY:Practice
URL:/site/bmx_races/353190
END:VEVENT
END:VCALENDAR
