BEGIN:VCALENDAR
VERSION:2.0
PRODID:icalendar-ruby
CALSCALE:GREGORIAN
METHOD:PUBLISH
BEGIN:VEVENT
DTSTAMP:20260421T035005Z
UID:9d262c1f-fed9-4408-847f-134cada6229f
DTSTART;VALUE=DATE:20171206
DTEND;VALUE=DATE:20171206
DESCRIPTION:Daytona BMX
LOCATION:1670 Strickland Range Rd  Holly Hill FL 32117 USA
SUMMARY:Practice
URL:/site/bmx_races/353218
END:VEVENT
END:VCALENDAR
