BEGIN:VCALENDAR
VERSION:2.0
PRODID:icalendar-ruby
CALSCALE:GREGORIAN
METHOD:PUBLISH
BEGIN:VEVENT
DTSTAMP:20260423T070228Z
UID:76fc31fb-70f6-4ffc-ba67-dcf1a9369663
DTSTART;VALUE=DATE:20170629
DTEND;VALUE=DATE:20170629
DESCRIPTION:Peninsula Indoor BMX
LOCATION:5867 Dogwood Road Se  Port Orchard WA 98367 USA
SUMMARY:Birthday Party
URL:/site/bmx_races/353268
END:VEVENT
END:VCALENDAR
