BEGIN:VCALENDAR
VERSION:2.0
PRODID:icalendar-ruby
CALSCALE:GREGORIAN
METHOD:PUBLISH
BEGIN:VEVENT
DTSTAMP:20260424T152916Z
UID:6d0f5138-9e20-41a8-af9b-5f64b26fd5cb
DTSTART;VALUE=DATE:20170709
DTEND;VALUE=DATE:20170709
DESCRIPTION:Goodyear BMX Raceway
LOCATION:15660 W Roeser Rd  Goodyear AZ 85338 USA
SUMMARY:Standard Single Single
URL:/site/bmx_races/353324
END:VEVENT
END:VCALENDAR
