BEGIN:VCALENDAR
VERSION:2.0
PRODID:icalendar-ruby
CALSCALE:GREGORIAN
METHOD:PUBLISH
BEGIN:VEVENT
DTSTAMP:20260424T082721Z
UID:f57ba438-3a1c-4f38-aa00-14c656e6c5ec
DTSTART;VALUE=DATE:20170726
DTEND;VALUE=DATE:20170726
DESCRIPTION:Bigfoot BMX
LOCATION:600 128th St Se  Everett WA 98201 USA
SUMMARY:Clinic
URL:/site/bmx_races/353355
END:VEVENT
END:VCALENDAR
