BEGIN:VCALENDAR
VERSION:2.0
PRODID:icalendar-ruby
CALSCALE:GREGORIAN
METHOD:PUBLISH
BEGIN:VEVENT
DTSTAMP:20260424T065139Z
UID:754c827f-81d2-47f1-987d-8cb2153ce9c0
DTSTART;VALUE=DATE:20170809
DTEND;VALUE=DATE:20170809
DESCRIPTION:Bigfoot BMX
LOCATION:600 128th St Se  Everett WA 98201 USA
SUMMARY:Clinic
URL:/site/bmx_races/353359
END:VEVENT
END:VCALENDAR
