BEGIN:VCALENDAR
VERSION:2.0
PRODID:icalendar-ruby
CALSCALE:GREGORIAN
METHOD:PUBLISH
BEGIN:VEVENT
DTSTAMP:20260420T031645Z
UID:f3219e04-a6f2-413c-90e0-deb2d5b89996
DTSTART;VALUE=DATE:20170713
DTEND;VALUE=DATE:20170713
DESCRIPTION:Mag Ridge BMX Park
LOCATION:344 Oldtown Crossing  Ridgeland MS 39157 USA
SUMMARY:Local Race Single
URL:/site/bmx_races/353481
END:VEVENT
END:VCALENDAR
