BEGIN:VCALENDAR
VERSION:2.0
PRODID:icalendar-ruby
CALSCALE:GREGORIAN
METHOD:PUBLISH
BEGIN:VEVENT
DTSTAMP:20260421T135332Z
UID:9036a84f-e74c-4fcf-8a6a-986b671de084
DTSTART;VALUE=DATE:20170812
DTEND;VALUE=DATE:20170812
DESCRIPTION:Sports Park BMX
LOCATION:6901 N Casa Grande Highway  Tucson AZ 85743 USA
SUMMARY:Race for Life Double
URL:/site/bmx_races/354261
END:VEVENT
END:VCALENDAR
