BEGIN:VCALENDAR
VERSION:2.0
PRODID:icalendar-ruby
CALSCALE:GREGORIAN
METHOD:PUBLISH
BEGIN:VEVENT
DTSTAMP:20260419T155434Z
UID:03dee24a-a6c5-47bf-9081-cd2e219fc37a
DTSTART;VALUE=DATE:20170809
DTEND;VALUE=DATE:20170809
DESCRIPTION:Capital City Family BMX
LOCATION:2809 N East St  Lansing MI 48906 USA
SUMMARY:Race For Life Single
URL:/site/bmx_races/354321
END:VEVENT
END:VCALENDAR
