BEGIN:VCALENDAR
VERSION:2.0
PRODID:icalendar-ruby
CALSCALE:GREGORIAN
METHOD:PUBLISH
BEGIN:VEVENT
DTSTAMP:20260419T223506Z
UID:603b2708-ede9-4589-8358-f42acbd3960b
DTSTART;VALUE=DATE:20171007
DTEND;VALUE=DATE:20171007
DESCRIPTION:Mag Ridge BMX Park
LOCATION:344 Oldtown Crossing  Ridgeland MS 39157 USA
SUMMARY:Standard Single Single
URL:/site/bmx_races/355300
END:VEVENT
END:VCALENDAR
