BEGIN:VCALENDAR
VERSION:2.0
PRODID:icalendar-ruby
CALSCALE:GREGORIAN
METHOD:PUBLISH
BEGIN:VEVENT
DTSTAMP:20260423T004359Z
UID:8dfdb09b-ff6b-411f-bba7-517a583acb38
DTSTART;VALUE=DATE:20170930
DTEND;VALUE=DATE:20170930
DESCRIPTION:Peninsula Indoor BMX
LOCATION:5867 Dogwood Road Se  Port Orchard WA 98367 USA
SUMMARY:Birthday Party
URL:/site/bmx_races/355316
END:VEVENT
END:VCALENDAR
