BEGIN:VCALENDAR
VERSION:2.0
PRODID:icalendar-ruby
CALSCALE:GREGORIAN
METHOD:PUBLISH
BEGIN:VEVENT
DTSTAMP:20260422T115054Z
UID:c21d8204-cbb2-40f0-880b-83dfd99ecde0
DTSTART;VALUE=DATE:20180530
DTEND;VALUE=DATE:20180530
DESCRIPTION:Peninsula Indoor BMX
LOCATION:5867 Dogwood Road Se  Port Orchard WA 98367 USA
SUMMARY:Practice
URL:/site/bmx_races/356100
END:VEVENT
END:VCALENDAR
