BEGIN:VCALENDAR
VERSION:2.0
PRODID:icalendar-ruby
CALSCALE:GREGORIAN
METHOD:PUBLISH
BEGIN:VEVENT
DTSTAMP:20260422T165003Z
UID:893df33f-9c05-4dea-8846-8640b7f0de0d
DTSTART;VALUE=DATE:20180225
DTEND;VALUE=DATE:20180225
DESCRIPTION:Peninsula Indoor BMX
LOCATION:5867 Dogwood Road Se  Port Orchard WA 98367 USA
SUMMARY:Standard Single Single
URL:/site/bmx_races/356265
END:VEVENT
END:VCALENDAR
