BEGIN:VCALENDAR
VERSION:2.0
PRODID:icalendar-ruby
CALSCALE:GREGORIAN
METHOD:PUBLISH
BEGIN:VEVENT
DTSTAMP:20260421T052548Z
UID:e10c8cc1-5600-466f-848a-0e16977cd171
DTSTART;VALUE=DATE:20171130
DTEND;VALUE=DATE:20171130
DESCRIPTION:Daytona BMX
LOCATION:1670 Strickland Range Rd  Holly Hill FL 32117 USA
SUMMARY:Practice
URL:/site/bmx_races/356741
END:VEVENT
END:VCALENDAR
