BEGIN:VCALENDAR
VERSION:2.0
PRODID:icalendar-ruby
CALSCALE:GREGORIAN
METHOD:PUBLISH
BEGIN:VEVENT
DTSTAMP:20260423T220229Z
UID:2179e5d5-0bff-4ba4-82c7-71e7d65b341d
DTSTART;VALUE=DATE:20171011
DTEND;VALUE=DATE:20171011
DESCRIPTION:Grand Valley BMX
LOCATION:2785 U.S. Highway 50  Grand Junction CO 81503 USA
SUMMARY:Standard Single Single
URL:/site/bmx_races/356887
END:VEVENT
END:VCALENDAR
