BEGIN:VCALENDAR
VERSION:2.0
PRODID:icalendar-ruby
CALSCALE:GREGORIAN
METHOD:PUBLISH
BEGIN:VEVENT
DTSTAMP:20260419T155442Z
UID:d72968ce-9293-4b5a-824b-ac4a099e28a2
DTSTART;VALUE=DATE:20180213
DTEND;VALUE=DATE:20180213
DESCRIPTION:Mag Ridge BMX Park
LOCATION:344 Oldtown Crossing  Ridgeland MS 39157 USA
SUMMARY:Practice
URL:/site/bmx_races/357672
END:VEVENT
END:VCALENDAR
