BEGIN:VCALENDAR
VERSION:2.0
PRODID:icalendar-ruby
CALSCALE:GREGORIAN
METHOD:PUBLISH
BEGIN:VEVENT
DTSTAMP:20260419T125103Z
UID:a3372aa6-608a-4303-bb05-6004b9c99092
DTSTART;VALUE=DATE:20180410
DTEND;VALUE=DATE:20180410
DESCRIPTION:Mag Ridge BMX Park
LOCATION:344 Oldtown Crossing  Ridgeland MS 39157 USA
SUMMARY:Practice
URL:/site/bmx_races/357696
END:VEVENT
END:VCALENDAR
