BEGIN:VCALENDAR
VERSION:2.0
PRODID:icalendar-ruby
CALSCALE:GREGORIAN
METHOD:PUBLISH
BEGIN:VEVENT
DTSTAMP:20260424T120252Z
UID:dd934e45-b05e-4a21-841a-05c01dacd4f6
DTSTART;VALUE=DATE:20180116
DTEND;VALUE=DATE:20180116
DESCRIPTION:Ed Fountain Park BMX Raceway
LOCATION:1400 N Decatur Blvd  Las Vegas NV 89108 USA
SUMMARY:Practice
URL:/site/bmx_races/358414
END:VEVENT
END:VCALENDAR
