BEGIN:VCALENDAR
VERSION:2.0
PRODID:icalendar-ruby
CALSCALE:GREGORIAN
METHOD:PUBLISH
BEGIN:VEVENT
DTSTAMP:20260424T090906Z
UID:5728c3ec-ead0-4840-a6e6-1d521500019e
DTSTART;VALUE=DATE:20180329
DTEND;VALUE=DATE:20180329
DESCRIPTION:Ed Fountain Park BMX Raceway
LOCATION:1400 N Decatur Blvd  Las Vegas NV 89108 USA
SUMMARY:Standard Single Single
URL:/site/bmx_races/358436
END:VEVENT
END:VCALENDAR
