BEGIN:VCALENDAR
VERSION:2.0
PRODID:icalendar-ruby
CALSCALE:GREGORIAN
METHOD:PUBLISH
BEGIN:VEVENT
DTSTAMP:20260424T001040Z
UID:610ec60f-d776-4cbd-97a9-cd9c73175350
DTSTART;VALUE=DATE:20180925
DTEND;VALUE=DATE:20180925
DESCRIPTION:Ed Fountain Park BMX Raceway
LOCATION:1400 N Decatur Blvd  Las Vegas NV 89108 USA
SUMMARY:Practice
URL:/site/bmx_races/358485
END:VEVENT
END:VCALENDAR
