BEGIN:VCALENDAR
VERSION:2.0
PRODID:icalendar-ruby
CALSCALE:GREGORIAN
METHOD:PUBLISH
BEGIN:VEVENT
DTSTAMP:20260423T224221Z
UID:54a47887-0d17-47b6-93d4-43b9cda8753b
DTSTART;VALUE=DATE:20181011
DTEND;VALUE=DATE:20181011
DESCRIPTION:Ed Fountain Park BMX Raceway
LOCATION:1400 N Decatur Blvd  Las Vegas NV 89108 USA
SUMMARY:Standard Single Single
URL:/site/bmx_races/358490
END:VEVENT
END:VCALENDAR
