BEGIN:VCALENDAR
VERSION:2.0
PRODID:icalendar-ruby
CALSCALE:GREGORIAN
METHOD:PUBLISH
BEGIN:VEVENT
DTSTAMP:20260424T120251Z
UID:4c2e8435-b618-4710-8834-a9f5c0837329
DTSTART;VALUE=DATE:20180103
DTEND;VALUE=DATE:20180103
DESCRIPTION:Ed Fountain Park BMX Raceway
LOCATION:1400 N Decatur Blvd  Las Vegas NV 89108 USA
SUMMARY:Clinic
URL:/site/bmx_races/358511
END:VEVENT
END:VCALENDAR
