BEGIN:VCALENDAR
VERSION:2.0
PRODID:icalendar-ruby
CALSCALE:GREGORIAN
METHOD:PUBLISH
BEGIN:VEVENT
DTSTAMP:20260424T030241Z
UID:f9970ad9-720f-41ff-ad7c-f75d927edfdc
DTSTART;VALUE=DATE:20180711
DTEND;VALUE=DATE:20180711
DESCRIPTION:Ed Fountain Park BMX Raceway
LOCATION:1400 N Decatur Blvd  Las Vegas NV 89108 USA
SUMMARY:Clinic
URL:/site/bmx_races/358565
END:VEVENT
END:VCALENDAR
