BEGIN:VCALENDAR
VERSION:2.0
PRODID:icalendar-ruby
CALSCALE:GREGORIAN
METHOD:PUBLISH
BEGIN:VEVENT
DTSTAMP:20260424T001040Z
UID:0ff675ab-9ebc-4a9f-8562-7da3c1fabde2
DTSTART;VALUE=DATE:20180905
DTEND;VALUE=DATE:20180905
DESCRIPTION:Ed Fountain Park BMX Raceway
LOCATION:1400 N Decatur Blvd  Las Vegas NV 89108 USA
SUMMARY:Clinic
URL:/site/bmx_races/358581
END:VEVENT
END:VCALENDAR
