BEGIN:VCALENDAR
VERSION:2.0
PRODID:icalendar-ruby
CALSCALE:GREGORIAN
METHOD:PUBLISH
BEGIN:VEVENT
DTSTAMP:20260423T211547Z
UID:2b17af35-4053-4679-b598-4d822b1b23d0
DTSTART;VALUE=DATE:20181114
DTEND;VALUE=DATE:20181114
DESCRIPTION:Ed Fountain Park BMX Raceway
LOCATION:1400 N Decatur Blvd  Las Vegas NV 89108 USA
SUMMARY:Clinic
URL:/site/bmx_races/358601
END:VEVENT
END:VCALENDAR
