BEGIN:VCALENDAR
VERSION:2.0
PRODID:icalendar-ruby
CALSCALE:GREGORIAN
METHOD:PUBLISH
BEGIN:VEVENT
DTSTAMP:20260423T200340Z
UID:1280d89e-dffc-4ef7-aac4-e276f61da6d3
DTSTART;VALUE=DATE:20181219
DTEND;VALUE=DATE:20181219
DESCRIPTION:Ed Fountain Park BMX Raceway
LOCATION:1400 N Decatur Blvd  Las Vegas NV 89108 USA
SUMMARY:Clinic
URL:/site/bmx_races/358611
END:VEVENT
END:VCALENDAR
