BEGIN:VCALENDAR
VERSION:2.0
PRODID:icalendar-ruby
CALSCALE:GREGORIAN
METHOD:PUBLISH
BEGIN:VEVENT
DTSTAMP:20260423T190735Z
UID:06105b0f-3963-4fa1-9029-0659875deffc
DTSTART;VALUE=DATE:20180708
DTEND;VALUE=DATE:20180708
DESCRIPTION:Rockford BMX
LOCATION:4950 Safford Rd  Rockford IL 61101 USA
SUMMARY:Standard Single Single
URL:/site/bmx_races/358637
END:VEVENT
END:VCALENDAR
