BEGIN:VCALENDAR
VERSION:2.0
PRODID:icalendar-ruby
CALSCALE:GREGORIAN
METHOD:PUBLISH
BEGIN:VEVENT
DTSTAMP:20260425T234658Z
UID:3b2eae08-7752-4583-8925-cf12f99a857c
DTSTART;VALUE=DATE:20180710
DTEND;VALUE=DATE:20180710
DESCRIPTION:Jacksonville BMX
LOCATION:1946 Ray Greene Drive  Jacksonville FL 32218 USA
SUMMARY:Standard Single Single
URL:/site/bmx_races/359152
END:VEVENT
END:VCALENDAR
