BEGIN:VCALENDAR
VERSION:2.0
PRODID:icalendar-ruby
CALSCALE:GREGORIAN
METHOD:PUBLISH
BEGIN:VEVENT
DTSTAMP:20260419T170706Z
UID:d5ffdc19-22db-4467-9864-9335d1f55007
DTSTART;VALUE=DATE:20181030
DTEND;VALUE=DATE:20181030
DESCRIPTION:Whittier Narrows BMX
LOCATION:1601 N Rosemead Blvd  South El Monte CA 91733 USA
SUMMARY:Standard Single Single
URL:/site/bmx_races/359363
END:VEVENT
END:VCALENDAR
